BEGIN:VCALENDAR
VERSION:2.0
PRODID:-//hacksw/handcal//NONSGML v1.0//EN
BEGIN:VEVENT
SUMMARY:libre
UID:8d04aed1-91ea-4f92-b6bd-621e62c9fd91
DTSTART:20260501T160000Z
DTEND:20260522T190000Z
LOCATION:Localisation   
CATEGORIES:Entrainement
STATUS:
URL;VALUE=URI:https://tennisdetablerambertois.sportsregions.fr/evenements/2026/05/01/libre-2242513
END:VEVENT
END:VCALENDAR
