BEGIN:VCALENDAR
VERSION:2.0
PRODID:-//hacksw/handcal//NONSGML v1.0//EN
BEGIN:VEVENT
SUMMARY:libre
UID:f65dbd28-3339-41d8-a2ce-8bfbc3815c9f
DTSTART:20260508T160000Z
DTEND:20260529T190000Z
LOCATION:Localisation   
CATEGORIES:Entrainement
STATUS:
URL;VALUE=URI:https://tennisdetablerambertois.sportsregions.fr/evenements/2026/05/08/libre-2242514
END:VEVENT
END:VCALENDAR
